BEGIN:VCALENDAR
PRODID:-//www.maldenmanor.kingston.sch.uk//EN
VERSION:2.0
METHOD:PUBLISH
BEGIN:VEVENT
DTSTART;TZID=Europe/London:20240724T084500
DTEND;TZID=Europe/London:20240724T143000
URL:https://www.maldenmanor.kingston.sch.uk/about-us/full-school-calendar/end-of-summer-term-2024/
SUMMARY:End of Summer Term 2024
END:VEVENT
END:VCALENDAR