BEGIN:VCALENDAR
PRODID:-//www.maldenmanor.kingston.sch.uk//EN
VERSION:2.0
METHOD:PUBLISH
BEGIN:VEVENT
DTSTART;TZID=Europe/London:20211201T190000
DTEND;TZID=Europe/London:20211201T200000
URL:https://www.maldenmanor.kingston.sch.uk/about-us/full-school-calendar/carol-service-at-st-john-the-baptist-church/
SUMMARY:Carol Service at St John the Baptist Church
END:VEVENT
END:VCALENDAR