BEGIN:VCALENDAR
PRODID:-//www.maldenmanor.kingston.sch.uk//EN
VERSION:2.0
METHOD:PUBLISH
BEGIN:VEVENT
DTSTART;TZID=Europe/London:20220721T
DTEND;TZID=Europe/London:20220721T
URL:https://www.maldenmanor.kingston.sch.uk/about-us/full-school-calendar/finish-for-summer-holidays-nursery-30-hours-reception-and-years-1-6/
SUMMARY:Finish for Summer Holidays - Nursery 30 hours, Reception and Years 1-6
END:VEVENT
END:VCALENDAR