BEGIN:VCALENDAR
PRODID:-//www.maldenmanor.kingston.sch.uk//EN
VERSION:2.0
METHOD:PUBLISH
BEGIN:VEVENT
DTSTART;TZID=Europe/London:20211210T
DTEND;TZID=Europe/London:20211210T
URL:https://www.maldenmanor.kingston.sch.uk/about-us/full-school-calendar/christmas-lunch-and-christmas-jumper-day/
SUMMARY:Christmas Lunch and Christmas Jumper Day
END:VEVENT
END:VCALENDAR