BEGIN:VCALENDAR
PRODID:-//www.maldenmanor.kingston.sch.uk//EN
VERSION:2.0
METHOD:PUBLISH
BEGIN:VEVENT
DTSTART;TZID=Europe/London:20211111T
DTEND;TZID=Europe/London:20211111T
URL:https://www.maldenmanor.kingston.sch.uk/about-us/full-school-calendar/year-5-ewhurst-village/
SUMMARY:Year 5 Ewhurst Village
END:VEVENT
END:VCALENDAR