BEGIN:VCALENDAR
PRODID:-//www.maldenmanor.kingston.sch.uk//EN
VERSION:2.0
METHOD:PUBLISH
BEGIN:VEVENT
DTSTART;TZID=Europe/London:20210722T
DTEND;TZID=Europe/London:20210722T
URL:https://www.maldenmanor.kingston.sch.uk/about-us/full-school-calendar/twinkle-twos-and-nursery-ampm-finish-for-summer/
SUMMARY:Twinkle Twos and Nursery AM/PM finish for summer
END:VEVENT
END:VCALENDAR