BEGIN:VCALENDAR
PRODID:-//www.maldenmanor.kingston.sch.uk//EN
VERSION:2.0
METHOD:PUBLISH
BEGIN:VEVENT
DTSTART;TZID=Europe/London:20210104T
DTEND;TZID=Europe/London:20210104T
URL:https://www.maldenmanor.kingston.sch.uk/about-us/full-school-calendar/new-calendar-event-101/
SUMMARY:INSET DAY - School Closed
END:VEVENT
END:VCALENDAR