BEGIN:VCALENDAR
PRODID:-//www.maldenmanor.kingston.sch.uk//EN
VERSION:2.0
METHOD:PUBLISH
BEGIN:VEVENT
DTSTART;TZID=Europe/London:20200923T
DTEND;TZID=Europe/London:20200923T
URL:https://www.maldenmanor.kingston.sch.uk/about-us/full-school-calendar/year-5-and-6-curriculum-meetings-4-00pm/
SUMMARY:Year 5 and 6 Curriculum Meetings 4.00pm
END:VEVENT
END:VCALENDAR