BEGIN:VCALENDAR
PRODID:-//www.maldenmanor.kingston.sch.uk//EN
VERSION:2.0
METHOD:PUBLISH
BEGIN:VEVENT
DTSTART;TZID=Europe/London:20200922T
DTEND;TZID=Europe/London:20200922T
URL:https://www.maldenmanor.kingston.sch.uk/about-us/full-school-calendar/year-2-curriculum-meeting-4-00pm/
SUMMARY:Year 2 and Year 3 Curriculum Meetings 4.00pm
END:VEVENT
END:VCALENDAR