BEGIN:VCALENDAR
PRODID:-//www.maldenmanor.kingston.sch.uk//EN
VERSION:2.0
METHOD:PUBLISH
BEGIN:VEVENT
DTSTART;TZID=Europe/London:20201217T
DTEND;TZID=Europe/London:20201217T
URL:https://www.maldenmanor.kingston.sch.uk/about-us/full-school-calendar/nursery-ampm-and-twinle-twos-finish-for-christmas/
SUMMARY:Nursery AM/PM and Twinkle Twos finish for Christmas
END:VEVENT
END:VCALENDAR