BEGIN:VCALENDAR
PRODID:-//www.maldenmanor.kingston.sch.uk//EN
VERSION:2.0
METHOD:PUBLISH
BEGIN:VEVENT
DTSTART;TZID=Europe/London:20200403T
DTEND;TZID=Europe/London:20200403T
URL:https://www.maldenmanor.kingston.sch.uk/about-us/full-school-calendar/school-finishes-at-2-30pm-for-easter-2/
SUMMARY:School finishes at 2.30pm for Easter
END:VEVENT
END:VCALENDAR