BEGIN:VCALENDAR
PRODID:-//www.maldenmanor.kingston.sch.uk//EN
VERSION:2.0
METHOD:PUBLISH
BEGIN:VEVENT
DTSTART;TZID=Europe/London:20200403T
DTEND;TZID=Europe/London:20200403T
URL:https://www.maldenmanor.kingston.sch.uk/about-us/full-school-calendar/new-calendar-event-98/
SUMMARY:30 hour nursery children finish at 12.30pm for Easter
END:VEVENT
END:VCALENDAR