BEGIN:VCALENDAR
PRODID:-//www.maldenmanor.kingston.sch.uk//EN
VERSION:2.0
METHOD:PUBLISH
BEGIN:VEVENT
DTSTART;TZID=Europe/London:20200402T
DTEND;TZID=Europe/London:20200402T
URL:https://www.maldenmanor.kingston.sch.uk/about-us/full-school-calendar/new-calendar-event-97/
SUMMARY:Twinkle Twos and Nursery finish for Easter
END:VEVENT
END:VCALENDAR