BEGIN:VCALENDAR
PRODID:-//www.maldenmanor.kingston.sch.uk//EN
VERSION:2.0
METHOD:PUBLISH
BEGIN:VEVENT
DTSTART;TZID=Europe/London:20200312T
DTEND;TZID=Europe/London:20200312T
URL:https://www.maldenmanor.kingston.sch.uk/about-us/full-school-calendar/year-1-assembly-2-45pm-sports-hall-2/
SUMMARY:Year 1 Assembly - 2.45pm Sports Hall
END:VEVENT
END:VCALENDAR