BEGIN:VCALENDAR
PRODID:-//www.maldenmanor.kingston.sch.uk//EN
VERSION:2.0
METHOD:PUBLISH
BEGIN:VEVENT
DTSTART;TZID=Europe/London:20200225T
DTEND;TZID=Europe/London:20200225T
URL:https://www.maldenmanor.kingston.sch.uk/about-us/full-school-calendar/pancake-day-dessert-menu/
SUMMARY:Pancake Day Dessert Menu
END:VEVENT
END:VCALENDAR