BEGIN:VCALENDAR
PRODID:-//www.maldenmanor.kingston.sch.uk//EN
VERSION:2.0
METHOD:PUBLISH
BEGIN:VEVENT
DTSTART;TZID=Europe/London:20200228T
DTEND;TZID=Europe/London:20200228T
URL:https://www.maldenmanor.kingston.sch.uk/about-us/full-school-calendar/pta-film-night/
SUMMARY:PTA Film Night
END:VEVENT
END:VCALENDAR