BEGIN:VCALENDAR
PRODID:-//www.maldenmanor.kingston.sch.uk//EN
VERSION:2.0
METHOD:PUBLISH
BEGIN:VEVENT
DTSTART;TZID=Europe/London:20200212T
DTEND;TZID=Europe/London:20200212T
URL:https://www.maldenmanor.kingston.sch.uk/about-us/full-school-calendar/extra-nursery-parent-consultation-afternoonevening-12-30-3-30pm/
SUMMARY:Extra Nursery Parent Consultation Afternoon/Evening 12.30-3.30pm
END:VEVENT
END:VCALENDAR