BEGIN:VCALENDAR
PRODID:-//www.maldenmanor.kingston.sch.uk//EN
VERSION:2.0
METHOD:PUBLISH
BEGIN:VEVENT
DTSTART;TZID=Europe/London:20200211T
DTEND;TZID=Europe/London:20200211T
URL:https://www.maldenmanor.kingston.sch.uk/about-us/full-school-calendar/parent-consultation-evening-3-50pm-7-00pm-4/
SUMMARY:Parent Consultation Evening 3.50pm - 7.00pm
END:VEVENT
END:VCALENDAR