BEGIN:VCALENDAR
PRODID:-//www.maldenmanor.kingston.sch.uk//EN
VERSION:2.0
METHOD:PUBLISH
BEGIN:VEVENT
DTSTART;TZID=Europe/London:20200127T
DTEND;TZID=Europe/London:20200127T
URL:https://www.maldenmanor.kingston.sch.uk/about-us/full-school-calendar/year-4-malden-and-coombe-cluster-the-rose-theatre/
SUMMARY:Year 4 Malden and Coombe Cluster @ The Rose Theatre
END:VEVENT
END:VCALENDAR