BEGIN:VCALENDAR
PRODID:-//www.maldenmanor.kingston.sch.uk//EN
VERSION:2.0
METHOD:PUBLISH
BEGIN:VEVENT
DTSTART;TZID=Europe/London:20191219T
DTEND;TZID=Europe/London:20191219T
URL:https://www.maldenmanor.kingston.sch.uk/about-us/full-school-calendar/new-calendar-event-95/
SUMMARY:Christingle Event in Playground 3.20pm
END:VEVENT
END:VCALENDAR