BEGIN:VCALENDAR
PRODID:-//www.maldenmanor.kingston.sch.uk//EN
VERSION:2.0
METHOD:PUBLISH
BEGIN:VEVENT
DTSTART;TZID=Europe/London:20191218T
DTEND;TZID=Europe/London:20191218T
URL:https://www.maldenmanor.kingston.sch.uk/about-us/full-school-calendar/new-calendar-event-94/
SUMMARY:Reception Christmas Performance - 9.30am Sports Hall
END:VEVENT
END:VCALENDAR