BEGIN:VCALENDAR
PRODID:-//www.maldenmanor.kingston.sch.uk//EN
VERSION:2.0
METHOD:PUBLISH
BEGIN:VEVENT
DTSTART;TZID=Europe/London:20191211T
DTEND;TZID=Europe/London:20191211T
URL:https://www.maldenmanor.kingston.sch.uk/about-us/full-school-calendar/christmas-lunch/
SUMMARY:Christmas Lunch
END:VEVENT
END:VCALENDAR