BEGIN:VCALENDAR
PRODID:-//www.maldenmanor.kingston.sch.uk//EN
VERSION:2.0
METHOD:PUBLISH
BEGIN:VEVENT
DTSTART;TZID=Europe/London:20191206T
DTEND;TZID=Europe/London:20191206T
URL:https://www.maldenmanor.kingston.sch.uk/about-us/full-school-calendar/new-calendar-event-89/
SUMMARY:KS2 Carol Concert - 2.15pm Sports Hall
END:VEVENT
END:VCALENDAR