BEGIN:VCALENDAR
PRODID:-//www.maldenmanor.kingston.sch.uk//EN
VERSION:2.0
METHOD:PUBLISH
BEGIN:VEVENT
DTSTART;TZID=Europe/London:20191023T
DTEND;TZID=Europe/London:20191023T
URL:https://www.maldenmanor.kingston.sch.uk/about-us/full-school-calendar/twinkle-twos-and-nursery-extra-parent-consultation-12-30-3-30pm/
SUMMARY:Twinkle Twos and Nursery Extra Parent Consultation 12.30-3.30pm
END:VEVENT
END:VCALENDAR