BEGIN:VCALENDAR
PRODID:-//www.maldenmanor.kingston.sch.uk//EN
VERSION:2.0
METHOD:PUBLISH
BEGIN:VEVENT
DTSTART;TZID=Europe/London:20191008T
DTEND;TZID=Europe/London:20191008T
URL:https://www.maldenmanor.kingston.sch.uk/about-us/full-school-calendar/harvest-festival-reception-year-1-and-2-9-15am/
SUMMARY:Harvest Festival 9.15am  - Reception, Year 1 & 2 
END:VEVENT
END:VCALENDAR