BEGIN:VCALENDAR
PRODID:-//www.maldenmanor.kingston.sch.uk//EN
VERSION:2.0
METHOD:PUBLISH
BEGIN:VEVENT
DTSTART;TZID=Europe/London:20200106T
DTEND;TZID=Europe/London:20200106T
URL:https://www.maldenmanor.kingston.sch.uk/about-us/full-school-calendar/inset-day-school-closed-3/
SUMMARY:INSET Day - School Closed
END:VEVENT
END:VCALENDAR