BEGIN:VCALENDAR
PRODID:-//www.maldenmanor.kingston.sch.uk//EN
VERSION:2.0
METHOD:PUBLISH
BEGIN:VEVENT
DTSTART;TZID=Europe/London:20191219T
DTEND;TZID=Europe/London:20191219T
URL:https://www.maldenmanor.kingston.sch.uk/about-us/full-school-calendar/twinkle-twos-and-nursery-finish-for-christmas/
SUMMARY:Twinkle Twos and Nursery Finish for Christmas
END:VEVENT
END:VCALENDAR