BEGIN:VCALENDAR
PRODID:-//www.maldenmanor.kingston.sch.uk//EN
VERSION:2.0
METHOD:PUBLISH
BEGIN:VEVENT
DTSTART;TZID=Europe/London:20191112T
DTEND;TZID=Europe/London:20191112T
URL:https://www.maldenmanor.kingston.sch.uk/about-us/full-school-calendar/reception-open-afternoon-prospective-pupils-september-2020/
SUMMARY:Reception Open Afternoon - Prospective Pupils September 2020
END:VEVENT
END:VCALENDAR