BEGIN:VCALENDAR
PRODID:-//www.maldenmanor.kingston.sch.uk//EN
VERSION:2.0
METHOD:PUBLISH
BEGIN:VEVENT
DTSTART;TZID=Europe/London:20190923T
DTEND;TZID=Europe/London:20190923T
URL:https://www.maldenmanor.kingston.sch.uk/about-us/full-school-calendar/new-calendar-event-79/
SUMMARY:Morning, Lunchtime and After School Clubs Start
END:VEVENT
END:VCALENDAR