BEGIN:VCALENDAR
PRODID:-//www.maldenmanor.kingston.sch.uk//EN
VERSION:2.0
METHOD:PUBLISH
BEGIN:VEVENT
DTSTART;TZID=Europe/London:20190925T
DTEND;TZID=Europe/London:20190925T
URL:https://www.maldenmanor.kingston.sch.uk/about-us/full-school-calendar/key-stage-1-curriculum-meeting-years-1-and-2-3-30pm/
SUMMARY:Key Stage 1 Curriculum Meeting - Years 1 & 2 3.30pm
END:VEVENT
END:VCALENDAR