BEGIN:VCALENDAR
PRODID:-//www.maldenmanor.kingston.sch.uk//EN
VERSION:2.0
METHOD:PUBLISH
BEGIN:VEVENT
DTSTART;TZID=Europe/London:20190918T153000
DTEND;TZID=Europe/London:20190918T
URL:https://www.maldenmanor.kingston.sch.uk/about-us/full-school-calendar/key-stage-2-curriculum-meeting-years-3-4-5-and-6/
SUMMARY:Key Stage 2 Curriculum Meeting - Years 3, 4, 5 & 6 3.30pm
END:VEVENT
END:VCALENDAR