BEGIN:VCALENDAR
PRODID:-//www.maldenmanor.kingston.sch.uk//EN
VERSION:2.0
METHOD:PUBLISH
BEGIN:VEVENT
DTSTART;TZID=Europe/London:20191021T
DTEND;TZID=Europe/London:20191021T
URL:https://www.maldenmanor.kingston.sch.uk/about-us/full-school-calendar/new-calendar-event-78/
SUMMARY:Nasal Flu Immunisation
END:VEVENT
END:VCALENDAR