BEGIN:VCALENDAR
PRODID:-//www.maldenmanor.kingston.sch.uk//EN
VERSION:2.0
METHOD:PUBLISH
BEGIN:VEVENT
DTSTART;TZID=Europe/London:20190909T
DTEND;TZID=Europe/London:20190909T
URL:https://www.maldenmanor.kingston.sch.uk/about-us/full-school-calendar/reception-start-stay-until-12midday/
SUMMARY:Reception start -  stay until 12midday
END:VEVENT
END:VCALENDAR