BEGIN:VCALENDAR
PRODID:-//www.maldenmanor.kingston.sch.uk//EN
VERSION:2.0
METHOD:PUBLISH
BEGIN:VEVENT
DTSTART;TZID=Europe/London:20190904T
DTEND;TZID=Europe/London:20190904T
URL:https://www.maldenmanor.kingston.sch.uk/about-us/full-school-calendar/new-calendar-event-77/
SUMMARY:First Day Back for Years 1 -6
END:VEVENT
END:VCALENDAR