BEGIN:VCALENDAR
PRODID:-//www.maldenmanor.kingston.sch.uk//EN
VERSION:2.0
METHOD:PUBLISH
BEGIN:VEVENT
DTSTART;TZID=Europe/London:20190611T
DTEND;TZID=Europe/London:20190611T
URL:https://www.maldenmanor.kingston.sch.uk/about-us/full-school-calendar/new-calendar-event-75/
SUMMARY:Year 4 Cluster Concert - The Rose Theatre
END:VEVENT
END:VCALENDAR