BEGIN:VCALENDAR
PRODID:-//www.maldenmanor.kingston.sch.uk//EN
VERSION:2.0
METHOD:PUBLISH
BEGIN:VEVENT
DTSTART;TZID=Europe/London:20190517T
DTEND;TZID=Europe/London:20190517T
URL:https://www.maldenmanor.kingston.sch.uk/about-us/full-school-calendar/school-council-cake-sale/
SUMMARY:School Council Cake Sale
END:VEVENT
END:VCALENDAR