BEGIN:VCALENDAR
PRODID:-//www.maldenmanor.kingston.sch.uk//EN
VERSION:2.0
METHOD:PUBLISH
BEGIN:VEVENT
DTSTART;TZID=Europe/London:20190503T
DTEND;TZID=Europe/London:20190503T
URL:https://www.maldenmanor.kingston.sch.uk/about-us/full-school-calendar/reception-cake-sale-3-30pm/
SUMMARY:Reception Cake Sale 3.30pm
END:VEVENT
END:VCALENDAR