BEGIN:VCALENDAR
PRODID:-//www.maldenmanor.kingston.sch.uk//EN
VERSION:2.0
METHOD:PUBLISH
BEGIN:VEVENT
DTSTART;TZID=Europe/London:20190405T
DTEND;TZID=Europe/London:20190405T
URL:https://www.maldenmanor.kingston.sch.uk/about-us/full-school-calendar/new-calendar-event-70/
SUMMARY:Easter Egg Assembly - Year 3, 4, 5 and 6
END:VEVENT
END:VCALENDAR