BEGIN:VCALENDAR
PRODID:-//www.maldenmanor.kingston.sch.uk//EN
VERSION:2.0
METHOD:PUBLISH
BEGIN:VEVENT
DTSTART;TZID=Europe/London:20190404T
DTEND;TZID=Europe/London:20190404T
URL:https://www.maldenmanor.kingston.sch.uk/about-us/full-school-calendar/easter-hat-parade-reception-year-1-and-year-2/
SUMMARY:Easter Hat Parade - Reception, Year 1 and Year 2
END:VEVENT
END:VCALENDAR