BEGIN:VCALENDAR
PRODID:-//www.maldenmanor.kingston.sch.uk//EN
VERSION:2.0
METHOD:PUBLISH
BEGIN:VEVENT
DTSTART;TZID=Europe/London:20190307T
DTEND;TZID=Europe/London:20190307T
URL:https://www.maldenmanor.kingston.sch.uk/about-us/full-school-calendar/world-book-day-2/
SUMMARY:World Book Day
END:VEVENT
END:VCALENDAR