BEGIN:VCALENDAR
PRODID:-//www.maldenmanor.kingston.sch.uk//EN
VERSION:2.0
METHOD:PUBLISH
BEGIN:VEVENT
DTSTART;TZID=Europe/London:20190404T
DTEND;TZID=Europe/London:20190404T
URL:https://www.maldenmanor.kingston.sch.uk/about-us/full-school-calendar/new-calendar-event-68/
SUMMARY:Nursery and Twinkle Twos finish for Easter
END:VEVENT
END:VCALENDAR