BEGIN:VCALENDAR
PRODID:-//www.maldenmanor.kingston.sch.uk//EN
VERSION:2.0
METHOD:PUBLISH
BEGIN:VEVENT
DTSTART;TZID=Europe/London:20190719T
DTEND;TZID=Europe/London:20190719T
URL:https://www.maldenmanor.kingston.sch.uk/about-us/full-school-calendar/school-finishes-at-2-30pm-for-summer-holidays/
SUMMARY:School finishes at 2.30pm for summer holidays
END:VEVENT
END:VCALENDAR