BEGIN:VCALENDAR
PRODID:-//www.maldenmanor.kingston.sch.uk//EN
VERSION:2.0
METHOD:PUBLISH
BEGIN:VEVENT
DTSTART;TZID=Europe/London:20181218T
DTEND;TZID=Europe/London:20181218T
URL:https://www.maldenmanor.kingston.sch.uk/about-us/full-school-calendar/nursery-christmas-performances-nursery-building-10-45am-and-2-45pm/
SUMMARY:Nursery Christmas Performances (Nursery Building) 10.45am & 2.45pm
END:VEVENT
END:VCALENDAR