BEGIN:VCALENDAR
PRODID:-//www.maldenmanor.kingston.sch.uk//EN
VERSION:2.0
METHOD:PUBLISH
BEGIN:VEVENT
DTSTART;TZID=Europe/London:20181213T
DTEND;TZID=Europe/London:20181213T
URL:https://www.maldenmanor.kingston.sch.uk/about-us/full-school-calendar/ks1-christmas-performance-sports-hall-9-15am/
SUMMARY:KS1 Christmas Performance (Sports Hall) 9.15am
END:VEVENT
END:VCALENDAR