BEGIN:VCALENDAR
PRODID:-//www.maldenmanor.kingston.sch.uk//EN
VERSION:2.0
METHOD:PUBLISH
BEGIN:VEVENT
DTSTART;TZID=Europe/London:20181212T
DTEND;TZID=Europe/London:20181212T
URL:https://www.maldenmanor.kingston.sch.uk/about-us/full-school-calendar/school-christmas-lunch/
SUMMARY:School Christmas Lunch
END:VEVENT
END:VCALENDAR