BEGIN:VCALENDAR
PRODID:-//www.maldenmanor.kingston.sch.uk//EN
VERSION:2.0
METHOD:PUBLISH
BEGIN:VEVENT
DTSTART;TZID=Europe/London:20181212T110000
DTEND;TZID=Europe/London:20181212T
URL:https://www.maldenmanor.kingston.sch.uk/about-us/full-school-calendar/choir-sing-at-john-lewis-kingston-11am/
SUMMARY:Choir Sing at John Lewis Kingston 11am
END:VEVENT
END:VCALENDAR