BEGIN:VCALENDAR
PRODID:-//www.maldenmanor.kingston.sch.uk//EN
VERSION:2.0
METHOD:PUBLISH
BEGIN:VEVENT
DTSTART;TZID=Europe/London:20181207T
DTEND;TZID=Europe/London:20181207T
URL:https://www.maldenmanor.kingston.sch.uk/about-us/full-school-calendar/pta-christmas-discos/
SUMMARY:PTA Christmas Discos
END:VEVENT
END:VCALENDAR