BEGIN:VCALENDAR
PRODID:-//www.maldenmanor.kingston.sch.uk//EN
VERSION:2.0
METHOD:PUBLISH
BEGIN:VEVENT
DTSTART;TZID=Europe/London:20170920T
DTEND;TZID=Europe/London:20170920T
URL:https://www.maldenmanor.kingston.sch.uk/about-us/full-school-calendar/reception-year-1-and-year-2-curriculum-meeting/
SUMMARY:Reception, Year 1 and Year 2 Curriculum Meeting
END:VEVENT
END:VCALENDAR