BEGIN:VCALENDAR
PRODID:-//www.maldenmanor.kingston.sch.uk//EN
VERSION:2.0
METHOD:PUBLISH
BEGIN:VEVENT
DTSTART;TZID=Europe/London:20170920T
DTEND;TZID=Europe/London:20170920T
URL:https://www.maldenmanor.kingston.sch.uk/about-us/full-school-calendar/key-stage-curriculum-meeting/
SUMMARY:Full School Calendar
END:VEVENT
END:VCALENDAR