BEGIN:VCALENDAR
PRODID:-//www.maldenmanor.kingston.sch.uk//EN
VERSION:2.0
METHOD:PUBLISH
BEGIN:VEVENT
DTSTART;TZID=Europe/London:20171107T
DTEND;TZID=Europe/London:20171107T
URL:https://www.maldenmanor.kingston.sch.uk/about-us/full-school-calendar/new-calendar-event-7/
SUMMARY:Full School Calendar
END:VEVENT
END:VCALENDAR